BEGIN:VCALENDAR
VERSION:2.0
PRODID:-//Tukios.com/
BEGIN:VEVENT
UID:f30f6bf2-6a73-49ae-b83b-a143f69fe26a@www.bustardcares.com
DTSTAMP:20260425T213611Z
DTSTART:20260530T180000Z
DTEND:20260530T220000Z
SUMMARY:Celebration of Life
DESCRIPTION:
URL:https://www.bustardcares.com/obituaries/amy-ammerman
LOCATION:VFW 1800 Bryan Stock Trail  Casper WY 82601
GEO:42.8740955;-106.2982778
END:VEVENT
END:VCALENDAR