BEGIN:VCALENDAR
VERSION:2.0
PRODID:-//Tukios.com/
BEGIN:VEVENT
UID:152ad875-16c9-436c-acd3-9a8e12c088a1@www.bustardcares.com
DTSTAMP:20260421T230048Z
DTSTART:20260424T170000Z
DTEND:20260424T180000Z
SUMMARY:Memorial Service
DESCRIPTION:
URL:https://www.bustardcares.com/obituaries/eeron-michelle-helms
LOCATION: 600 CY Avenue  Casper WY 82601
GEO:42.8389204;-106.3323264
END:VEVENT
END:VCALENDAR