BEGIN:VCALENDAR
VERSION:2.0
PRODID:-//Tukios.com/
BEGIN:VEVENT
UID:3f968c84-1c87-4dd7-a456-e5740e5f9676@www.bustardcares.com
DTSTAMP:20260422T015334Z
DTSTART:20260501T190000Z
DTEND:20260501T200000Z
SUMMARY:Funeral Service
DESCRIPTION:
URL:https://www.bustardcares.com/obituaries/gerald-bays
LOCATION:Bustard and Jacoby Funeral Home 600 CY Avenue  Casper WY 82601
GEO:42.8389204;-106.3323264
END:VEVENT
END:VCALENDAR