BEGIN:VCALENDAR
VERSION:2.0
PRODID:-//Tukios.com/
BEGIN:VEVENT
UID:df1f4483-bf91-4132-b3da-355c72728649@www.bustardcares.com
DTSTAMP:20260425T232709Z
DTSTART:20260528T160000Z
DTEND:20260528T170000Z
SUMMARY:Celebration of Life
DESCRIPTION:
URL:https://www.bustardcares.com/obituaries/joey-hopper
LOCATION:Grace Bible Baptist 405 South Park Street  Casper WY 82601
GEO:42.8465066;-106.3177526
END:VEVENT
END:VCALENDAR