BEGIN:VCALENDAR
VERSION:2.0
PRODID:-//Tukios.com/
BEGIN:VEVENT
UID:033ca6b5-6c68-4f90-b1b2-1b6e65f14104@www.bustardcares.com
DTSTAMP:20260421T205313Z
DTSTART:20260430T160000Z
DTEND:20260430T170000Z
SUMMARY:Memorial Service
DESCRIPTION:
URL:https://www.bustardcares.com/obituaries/michael-t-mahoney
LOCATION:Bustard's Funeral Home 600 CY Avenue  Casper WY 82601
GEO:42.8389148;-106.3322793
END:VEVENT
END:VCALENDAR