BEGIN:VCALENDAR
VERSION:2.0
PRODID:-//Tukios.com/
BEGIN:VEVENT
UID:5515185e-8bee-4b83-8fa3-503c16427f85@www.bustardcares.com
DTSTAMP:20260422T000029Z
DTSTART:20260430T230000Z
DTEND:20260501T010000Z
SUMMARY:Visitation
DESCRIPTION:
URL:https://www.bustardcares.com/obituaries/sharon-mathis
LOCATION:Bustard and Jacoby Funeral Home 600 CY Avenue  Casper WY 82601
GEO:42.8389204;-106.3323264
END:VEVENT
END:VCALENDAR