BEGIN:VCALENDAR
VERSION:2.0
PRODID:-//Tukios.com/
BEGIN:VEVENT
UID:5b05e7f0-59f0-43e1-a923-abcc6c5af5e0@www.bustardcares.com
DTSTAMP:20260421T235815Z
DTSTART:20260502T190000Z
DTEND:20260502T200000Z
SUMMARY:Memorial Service
DESCRIPTION:
URL:https://www.bustardcares.com/obituaries/sharon-mathis
LOCATION:Boyd Ave Baptist Church 1930 Boyd Avenue  Casper WY 82604
GEO:42.8287766;-106.3524443
END:VEVENT
END:VCALENDAR